BEGIN:VCALENDAR
VERSION:2.0
PRODID:-//New Mexico Rural Water Association - ECPv6.13.2.1//NONSGML v1.0//EN
CALSCALE:GREGORIAN
METHOD:PUBLISH
X-ORIGINAL-URL:https://nmrwa.org
X-WR-CALDESC:Events for New Mexico Rural Water Association
REFRESH-INTERVAL;VALUE=DURATION:PT1H
X-Robots-Tag:noindex
X-PUBLISHED-TTL:PT1H
BEGIN:VTIMEZONE
TZID:America/Denver
BEGIN:DAYLIGHT
TZOFFSETFROM:-0700
TZOFFSETTO:-0600
TZNAME:MDT
DTSTART:20190310T090000
END:DAYLIGHT
BEGIN:STANDARD
TZOFFSETFROM:-0600
TZOFFSETTO:-0700
TZNAME:MST
DTSTART:20191103T080000
END:STANDARD
BEGIN:DAYLIGHT
TZOFFSETFROM:-0700
TZOFFSETTO:-0600
TZNAME:MDT
DTSTART:20200308T090000
END:DAYLIGHT
BEGIN:STANDARD
TZOFFSETFROM:-0600
TZOFFSETTO:-0700
TZNAME:MST
DTSTART:20201101T080000
END:STANDARD
BEGIN:DAYLIGHT
TZOFFSETFROM:-0700
TZOFFSETTO:-0600
TZNAME:MDT
DTSTART:20210314T090000
END:DAYLIGHT
BEGIN:STANDARD
TZOFFSETFROM:-0600
TZOFFSETTO:-0700
TZNAME:MST
DTSTART:20211107T080000
END:STANDARD
BEGIN:DAYLIGHT
TZOFFSETFROM:-0700
TZOFFSETTO:-0600
TZNAME:MDT
DTSTART:20220313T090000
END:DAYLIGHT
BEGIN:STANDARD
TZOFFSETFROM:-0600
TZOFFSETTO:-0700
TZNAME:MST
DTSTART:20221106T080000
END:STANDARD
BEGIN:DAYLIGHT
TZOFFSETFROM:-0700
TZOFFSETTO:-0600
TZNAME:MDT
DTSTART:20230312T090000
END:DAYLIGHT
BEGIN:STANDARD
TZOFFSETFROM:-0600
TZOFFSETTO:-0700
TZNAME:MST
DTSTART:20231105T080000
END:STANDARD
BEGIN:DAYLIGHT
TZOFFSETFROM:-0700
TZOFFSETTO:-0600
TZNAME:MDT
DTSTART:20240310T090000
END:DAYLIGHT
BEGIN:STANDARD
TZOFFSETFROM:-0600
TZOFFSETTO:-0700
TZNAME:MST
DTSTART:20241103T080000
END:STANDARD
BEGIN:DAYLIGHT
TZOFFSETFROM:-0700
TZOFFSETTO:-0600
TZNAME:MDT
DTSTART:20250309T090000
END:DAYLIGHT
BEGIN:STANDARD
TZOFFSETFROM:-0600
TZOFFSETTO:-0700
TZNAME:MST
DTSTART:20251102T080000
END:STANDARD
BEGIN:DAYLIGHT
TZOFFSETFROM:-0700
TZOFFSETTO:-0600
TZNAME:MDT
DTSTART:20260308T090000
END:DAYLIGHT
BEGIN:STANDARD
TZOFFSETFROM:-0600
TZOFFSETTO:-0700
TZNAME:MST
DTSTART:20261101T080000
END:STANDARD
END:VTIMEZONE
BEGIN:VEVENT
DTSTART;VALUE=DATE:20260414
DTEND;VALUE=DATE:20260417
DTSTAMP:20260424T100024
CREATED:20260111T064450Z
LAST-MODIFIED:20260111T064632Z
UID:5025-1776124800-1776383999@nmrwa.org
SUMMARY:NMRWA 48th Annual Conference - April 14-16\, 2026
DESCRIPTION:
URL:https://nmrwa.org/event/nmrwa-48th-annual-conference-april-14-16-2026/
LOCATION:Isleta Resort and Casino\, 11000 Broadway SE\, Albuquerque\, NM\, 87105\, United States
ORGANIZER;CN="NMRWA":MAILTO:info@nmrwa.org
END:VEVENT
BEGIN:VEVENT
DTSTART;VALUE=DATE:20251028
DTEND;VALUE=DATE:20251031
DTSTAMP:20260424T100024
CREATED:20250905T031919Z
LAST-MODIFIED:20250905T031919Z
UID:4851-1761609600-1761868799@nmrwa.org
SUMMARY:NMRWA 15th Annual Southern Fall Conference
DESCRIPTION:
URL:https://nmrwa.org/event/nmrwa-15th-annual-southern-fall-conference/
LOCATION:Las Cruces Convention Center\, 680 East University Avenue\, Las Cruces\, NM\, 88001\, United States
CATEGORIES:Training,Wastewater Training,Water Training
ORGANIZER;CN="NMRWA":MAILTO:info@nmrwa.org
END:VEVENT
BEGIN:VEVENT
DTSTART;TZID=America/Denver:20250708T080000
DTEND;TZID=America/Denver:20250708T160000
DTSTAMP:20260424T100024
CREATED:20250530T045723Z
LAST-MODIFIED:20250530T045723Z
UID:4757-1751961600-1751990400@nmrwa.org
SUMMARY:RTCR Workshop
DESCRIPTION:
URL:https://nmrwa.org/event/rtcr-workshop/
LOCATION:Raton Convention Center\, 901 S. Third Street\, Raton\, NM\, 87740\, United States
ORGANIZER;CN="NMRWA":MAILTO:info@nmrwa.org
END:VEVENT
BEGIN:VEVENT
DTSTART;TZID=America/Denver:20250611T143000
DTEND;TZID=America/Denver:20250611T163000
DTSTAMP:20260424T100024
CREATED:20250530T045223Z
LAST-MODIFIED:20250530T045223Z
UID:4756-1749652200-1749659400@nmrwa.org
SUMMARY:Lead and Copper Rule Revision (LCRR) Hybrid Training
DESCRIPTION:
URL:https://nmrwa.org/event/lead-and-copper-rule-revision-lcrr-hybrid-training/
LOCATION:Nativo Lodge\, 6000 Pan American Frwy Ne\, Albuquerque\, NM\, 87109\, United States
ORGANIZER;CN="NMRWA":MAILTO:info@nmrwa.org
END:VEVENT
BEGIN:VEVENT
DTSTART;TZID=America/Denver:20250611T080000
DTEND;TZID=America/Denver:20250611T140000
DTSTAMP:20260424T100024
CREATED:20250530T043949Z
LAST-MODIFIED:20250530T043949Z
UID:4753-1749628800-1749650400@nmrwa.org
SUMMARY:Compliance 101 Workshop
DESCRIPTION:
URL:https://nmrwa.org/event/compliance-101-workshop/
LOCATION:Nativo Lodge\, 6000 Pan American Frwy Ne\, Albuquerque\, NM\, 87109\, United States
ORGANIZER;CN="NMRWA":MAILTO:info@nmrwa.org
END:VEVENT
BEGIN:VEVENT
DTSTART;VALUE=DATE:20250415
DTEND;VALUE=DATE:20250418
DTSTAMP:20260424T100024
CREATED:20241216T050951Z
LAST-MODIFIED:20241216T050951Z
UID:4537-1744675200-1744934399@nmrwa.org
SUMMARY:47th Annual NMRWA Conference
DESCRIPTION:47th Annual New Mexico Rural Water Association Conference
URL:https://nmrwa.org/event/47th-annual-nmrwa-conference/
LOCATION:Isleta Resort and Casino\, 11000 Broadway SE\, Albuquerque\, NM\, 87105\, United States
ORGANIZER;CN="NMRWA":MAILTO:info@nmrwa.org
END:VEVENT
BEGIN:VEVENT
DTSTART;VALUE=DATE:20241001
DTEND;VALUE=DATE:20241004
DTSTAMP:20260424T100024
CREATED:20240816T193017Z
LAST-MODIFIED:20240816T193219Z
UID:4355-1727740800-1727999999@nmrwa.org
SUMMARY:14th Annual Southern Fall Conference
DESCRIPTION:
URL:https://nmrwa.org/event/14th-annual-southern-fall-conference/
LOCATION:Las Cruces Convention Center\, 680 East University Avenue\, Las Cruces\, NM\, 88001\, United States
ORGANIZER;CN="NMRWA":MAILTO:info@nmrwa.org
END:VEVENT
BEGIN:VEVENT
DTSTART;TZID=America/Denver:20240724T080000
DTEND;TZID=America/Denver:20240724T170000
DTSTAMP:20260424T100024
CREATED:20240708T215706Z
LAST-MODIFIED:20240708T215706Z
UID:4305-1721808000-1721840400@nmrwa.org
SUMMARY:Revised Total Coliform Rule Workshop
DESCRIPTION:To register\, email your name\, position/title\, NM operator ID (if you have one)\, system associated with\, PWS ID number\, and phone contact number to ruth@nullnmrwa.org.  Space is limited.
URL:https://nmrwa.org/event/revised-total-coliform-rule-workshop/
LOCATION:NMED Albuquerque Office\, 121 Tijeras Ave.\, NE\, Rio Grande Room\, Albuquerque\, NM\, 87102\, United States
ORGANIZER;CN="NMRWA":MAILTO:info@nmrwa.org
END:VEVENT
BEGIN:VEVENT
DTSTART;TZID=America/Denver:20240717T080000
DTEND;TZID=America/Denver:20240717T170000
DTSTAMP:20260424T100024
CREATED:20240708T215312Z
LAST-MODIFIED:20240708T215312Z
UID:4302-1721203200-1721235600@nmrwa.org
SUMMARY:Compliance 101
DESCRIPTION:To register\, email your name\, position/title\, NM operator ID (if you have one)\, system associated with\, PWS ID number\, and phone contact number to ruth@nullnmrwa.org.  Space is limited.
URL:https://nmrwa.org/event/compliance-101/
LOCATION:Holiday Inn Express – Telshore\, LC\, 2142 Telshor Court\, Las Cruces\, NM\, 88011\, United States
ORGANIZER;CN="NMRWA":MAILTO:info@nmrwa.org
END:VEVENT
BEGIN:VEVENT
DTSTART;TZID=America/Denver:20240716T130000
DTEND;TZID=America/Denver:20240716T170000
DTSTAMP:20260424T100024
CREATED:20240708T214952Z
LAST-MODIFIED:20240708T214952Z
UID:4298-1721134800-1721149200@nmrwa.org
SUMMARY:Emergency Response Plans & Cybersecurity
DESCRIPTION:To register\, email your name\, position/title\, NM operator ID (if you have one)\, system associated with\, PWS ID number\, and phone contact number to ruth@nullnmrwa.org.  Space is limited.  This is a hybrid training\, so please indicate in-person or on-line attendance.
URL:https://nmrwa.org/event/emergency-response-plans-cybersecurity/
LOCATION:Holiday Inn Express – Telshore\, LC\, 2142 Telshor Court\, Las Cruces\, NM\, 88011\, United States
ORGANIZER;CN="NMRWA":MAILTO:info@nmrwa.org
END:VEVENT
BEGIN:VEVENT
DTSTART;TZID=America/Denver:20240620T120000
DTEND;TZID=America/Denver:20240620T160000
DTSTAMP:20260424T100024
CREATED:20240508T182654Z
LAST-MODIFIED:20240508T182654Z
UID:4259-1718884800-1718899200@nmrwa.org
SUMMARY:Lead & Copper Rule Revisions - Service Line Inventory
DESCRIPTION:
URL:https://nmrwa.org/event/lead-copper-rule-revisions-service-line-inventory-2/
LOCATION:Santa Rosa Convention Center\, 1085 Blue Hole Road\, Santa Rosa\, NM\, 88435\, United States
ORGANIZER;CN="NMRWA":MAILTO:info@nmrwa.org
END:VEVENT
BEGIN:VEVENT
DTSTART;TZID=America/Denver:20240611T080000
DTEND;TZID=America/Denver:20240611T170000
DTSTAMP:20260424T100024
CREATED:20240521T010925Z
LAST-MODIFIED:20240521T032649Z
UID:4268-1718092800-1718125200@nmrwa.org
SUMMARY:CCR Workshop in Albuquerque June 11\, 2024
DESCRIPTION:
URL:https://nmrwa.org/event/ccr-workshop-in-albuquerque-june-11-2024/
LOCATION:NM
END:VEVENT
BEGIN:VEVENT
DTSTART;TZID=America/Denver:20240530T090000
DTEND;TZID=America/Denver:20240530T130000
DTSTAMP:20260424T100024
CREATED:20240521T010702Z
LAST-MODIFIED:20240521T033045Z
UID:4267-1717059600-1717074000@nmrwa.org
SUMMARY:CCR Workshop in Las Vegas May 30\, 2024
DESCRIPTION:
URL:https://nmrwa.org/event/ccr-workshop-in-las-vegas-may-30-2024/
LOCATION:NM
END:VEVENT
BEGIN:VEVENT
DTSTART;TZID=America/Denver:20240529T090000
DTEND;TZID=America/Denver:20240529T130000
DTSTAMP:20260424T100024
CREATED:20240521T010150Z
LAST-MODIFIED:20240521T032736Z
UID:4266-1716973200-1716987600@nmrwa.org
SUMMARY:CCR Workshop in Socorro May 29\, 2024
DESCRIPTION:
URL:https://nmrwa.org/event/ccr-workshop-in-socorro-may-29-2024/
LOCATION:NM
ORGANIZER;CN="NMRWA":MAILTO:info@nmrwa.org
END:VEVENT
BEGIN:VEVENT
DTSTART;TZID=America/Denver:20240515T120000
DTEND;TZID=America/Denver:20240515T160000
DTSTAMP:20260424T100024
CREATED:20240508T182233Z
LAST-MODIFIED:20240508T182233Z
UID:4257-1715774400-1715788800@nmrwa.org
SUMMARY:Lead & Copper Rule Revisions - Service Line Inventory
DESCRIPTION:
URL:https://nmrwa.org/event/lead-copper-rule-revisions-service-line-inventory/
LOCATION:Raton Convention Center\, 901 S. Third Street\, Raton\, NM\, 87740\, United States
ORGANIZER;CN="NMRWA":MAILTO:info@nmrwa.org
END:VEVENT
BEGIN:VEVENT
DTSTART;VALUE=DATE:20240416
DTEND;VALUE=DATE:20240419
DTSTAMP:20260424T100024
CREATED:20240124T193841Z
LAST-MODIFIED:20240124T193841Z
UID:4110-1713225600-1713484799@nmrwa.org
SUMMARY:NMRWA 46th Annual Conference
DESCRIPTION:NMRWA’s 46th Annual Conference
URL:https://nmrwa.org/event/nmrwa-46th-annual-conference/
LOCATION:Isleta Resort and Casino\, 11000 Broadway SE\, Albuquerque\, NM\, 87105\, United States
ORGANIZER;CN="NMRWA":MAILTO:info@nmrwa.org
END:VEVENT
BEGIN:VEVENT
DTSTART;VALUE=DATE:20231128
DTEND;VALUE=DATE:20231201
DTSTAMP:20260424T100024
CREATED:20230925T185734Z
LAST-MODIFIED:20230925T185734Z
UID:3932-1701129600-1701388799@nmrwa.org
SUMMARY:13th Annual Southern Fall Conference - Las Cruces
DESCRIPTION:
URL:https://nmrwa.org/event/13th-annual-southern-fall-conference-las-cruces/
LOCATION:Las Cruces Convention Center\, 680 East University Avenue\, Las Cruces\, NM\, 88001\, United States
ORGANIZER;CN="NMRWA":MAILTO:info@nmrwa.org
END:VEVENT
BEGIN:VEVENT
DTSTART;TZID=America/Denver:20231019T080000
DTEND;TZID=America/Denver:20231019T163000
DTSTAMP:20260424T100024
CREATED:20231011T051741Z
LAST-MODIFIED:20231011T051741Z
UID:3943-1697702400-1697733000@nmrwa.org
SUMMARY:Compliance 101 Training - Farmington (October 2023)
DESCRIPTION:San Juan College School of Energy \nMerrion Room A \n5301 College Boulevard \nFarmington\, NM 87402 \n8 Operator Training Credits Total. \nThis is live\, in-person training.  Attendees will earn a total of 8 State of New Mexico Operator Certification credits.  The class will cover water system compliance requirements.  See Agenda Below. \nCompliance 101 \nIntroductions \nSafe Drinking Water Act \nSanitary Surveys \nRevised Total Coliform Rule (with sampling techniques) \nLunch \nLead and Copper Rule Revisions \nDisinfection Byproducts Rule (with sampling techniques) \nMonitoring and Reporting \nPublic Notifications  \nTo register for this class\, please send an email with your Name\, New Mexico Water System Operator ID Number (if any)\, Current Certification\, System Associated With\, and Phone Contact Number to ruth@nullnmrwa.org  Space is limited and will be granted on first come\, first registered.  Training class is for a full day so please make necessary arrangements. \nHandouts will be provided!
URL:https://nmrwa.org/event/compliance-101-training-farmington-october-2023/
LOCATION:San Juan College School of Energy\, Henderson Fine Arts Building\, 4601 College Blvd.\, Farmington\, NM\, 87402\, United States
ORGANIZER;CN="NMRWA":MAILTO:info@nmrwa.org
END:VEVENT
BEGIN:VEVENT
DTSTART;TZID=America/Denver:20220614T080000
DTEND;TZID=America/Denver:20220616T170000
DTSTAMP:20260424T100024
CREATED:20220323T213458Z
LAST-MODIFIED:20220324T224251Z
UID:3377-1655193600-1655398800@nmrwa.org
SUMMARY:44th NMRWA Annual Conference!
DESCRIPTION:Please join us for our 44th NMRWA Annual Conference held at the Crowne Plaza Hotel\, Albuquerque. \nhttps://nmrwa.org/44th-annual-new-mexico-rural-water-association-conference/
URL:https://nmrwa.org/event/44th-nmrwa-annual-conference/
LOCATION:Crowne Plaza Hotel\, 1901 University Blvd NE\, Albuquerque\, 87102
END:VEVENT
BEGIN:VEVENT
DTSTART;TZID=America/Denver:20211202T080000
DTEND;TZID=America/Denver:20211203T170000
DTSTAMP:20260424T100024
CREATED:20211004T144757Z
LAST-MODIFIED:20211004T145024Z
UID:3250-1638432000-1638550800@nmrwa.org
SUMMARY:Four Corners Wastewater Training
DESCRIPTION:
URL:https://nmrwa.org/event/four-corners-wastewater-training/
LOCATION:Moab Wastewater Treatment Plant\, 1070 W 400 N\, Moab\, Utah\, 84532
ORGANIZER;CN="Biolynceus":MAILTO:training@biolynceus.net
END:VEVENT
BEGIN:VEVENT
DTSTART;TZID=America/Denver:20211116T080000
DTEND;TZID=America/Denver:20211118T170000
DTSTAMP:20260424T100024
CREATED:20210929T212116Z
LAST-MODIFIED:20210929T212149Z
UID:3244-1637049600-1637254800@nmrwa.org
SUMMARY:11th Annual Southern Fall Conference - Las Cruces
DESCRIPTION:
URL:https://nmrwa.org/event/2021-11th-annual-southern-fall-conference-las-cruces/
LOCATION:Hotel Encanto de Las Cruces\, 705 Telshor Blvd.\, Las Cruces\, NM\, 88001\, United States
END:VEVENT
BEGIN:VEVENT
DTSTART;TZID=America/Denver:20200727T231400
DTEND;TZID=America/Denver:20200727T231400
DTSTAMP:20260424T100024
CREATED:20190724T174403Z
LAST-MODIFIED:20200727T231559Z
UID:2457-1595891640-1595891640@nmrwa.org
SUMMARY:2020 Annual NMRWA Conference Cancelled
DESCRIPTION:UPDATE to NMRWA’s 2020 Annual Conference:\nIn an abundance of caution\, and in compliance with the New Mexico State Department of Health’s requirement that no large meetings be held as a result of the COVID-19 virus outbreak\, New Mexico Rural Water Association has cancelled its 2020 Annual Conference. \nWe will maintain all conference registrations received and have them in place for NMRWA’s 2021 Annual Conference.  The dates and location of the 2021 conference will be announced later this year. \nNMRWA’s Fall Conference is still scheduled for November 17-19\, 2020. \nIf anyone who has paid Annual Conference registration fees that would like a refund\, please email bill@nullnmrwa.org with your request and your payment will be refunded. \nWe regret the inconvenience\, but our concern is always for the well being of our members\, our staff\, and our entire rural water community. \nWe hope to see you in Las Cruces November 17-19 for our Fall Conference\, and next year for the 2021 NMRWA Annual Conference! \nAbout\nNMRWA’s conference is a premier water and wastewater industry training and vendor exhibit event.  Our conferences feature up to 36 training presentations per day on a variety of topics to include:  Water and Wastewater Operator Certification Training\, Water Sampler Certification Training\, Regulatory Training\, Board Training\, and much more.  Please join us in 2021! \n 
URL:https://nmrwa.org/event/42nd-annual-nmrwa-conference-august-1113-2020/
LOCATION:NM\, United States
ORGANIZER;CN="NMRWA":MAILTO:info@nmrwa.org
END:VEVENT
BEGIN:VEVENT
DTSTART;TZID=America/Denver:20200203T080000
DTEND;TZID=America/Denver:20200205T170000
DTSTAMP:20260424T100024
CREATED:20190828T185630Z
LAST-MODIFIED:20190828T185630Z
UID:2490-1580716800-1580922000@nmrwa.org
SUMMARY:2020 Rural Water Rally
DESCRIPTION:The Rural Water Rally provides an opportunity for supporters of our industry to make their case directly to their elected officials. Rural Water Associations in each state schedule meetings with Representatives\, Senators\, and their staff\, so that they can share the Rural Water success story\, answer questions and build important relationships. Attending the Rural Water Rally also provides a unique opportunity to meet with association leaders and watch the Great American Taste Test in person. \nJoin us in Washington\, DC\, February 3-5\, 2020!
URL:https://nmrwa.org/event/2020-rural-water-rally/
LOCATION:NM
END:VEVENT
BEGIN:VEVENT
DTSTART;TZID=America/Denver:20191119T080000
DTEND;TZID=America/Denver:20191121T170000
DTSTAMP:20260424T100024
CREATED:20190507T190135Z
LAST-MODIFIED:20191111T173122Z
UID:2397-1574150400-1574355600@nmrwa.org
SUMMARY:9th Annual Southern Fall Conference
DESCRIPTION:Attendees\n2019 Southern Fall Conference ONLINE REGISTRATION  \n2019 Southern Fall Conference Registration Form  \nExhibitors\n2019 Southern Fall Conference Exhibitor Packet  \nSchedule\nView the schedule for the conference here \nPlease note\, classes and times are subject to change in the weeks leading up to the conference\, please check back frequently to make sure you have the most up to date version. \nPresenters\nWant to volunteer to present?  We have many presentation slots available. We pride ourselves in offering our attendees a wide variety of topics including compliance\, water and wastewater certification\, board training\, funding processes and opportunities\, new technologies\, and more. These diverse class offerings are only possible with help from our very experienced and qualified volunteer presenters.  If you would like to present at our 2019 Southern Fall Conference please download the “Volunteer Presenter Information Form” by clicking on the link below.  Fill out the Word document and save it in Word format (not as a pdf).  Email the completed form to quintin@nullnmrwa.org. \nThe deadline to submit your presenter form is Friday\, September 27th\, 2019 \nNMRWA Volunteer Presenter Information Form \nOperator Exam\n2019 State of New Mexico Water/Waste Water/ Sampler Certification Exam: Friday\, November 22nd\, 2019 in Las Cruces\, NM Exam Registration deadline is October 23rd\, 2019 \nFor more information about the exam and study guides please click here \nCheck back for more details about the Conference and information on testing.  Contact the NMRWA Office at 505.884.1031 or info@nullnmrwa.org if you have questions.
URL:https://nmrwa.org/event/9th-annual-southern-fall-conference/
LOCATION:Hotel Encanto de Las Cruces\, 705 Telshor Blvd.\, Las Cruces\, NM\, 88001\, United States
ORGANIZER;CN="NMRWA":MAILTO:info@nmrwa.org
END:VEVENT
BEGIN:VEVENT
DTSTART;TZID=America/Denver:20191009T080000
DTEND;TZID=America/Denver:20191011T170000
DTSTAMP:20260424T100024
CREATED:20190717T182657Z
LAST-MODIFIED:20190918T180419Z
UID:2450-1570608000-1570813200@nmrwa.org
SUMMARY:2019 Northern New Mexico Short School
DESCRIPTION:Join us October 9-10\,2019 at Highlands University for our 2019 Northern Short School! Testing will take place on October 11\, 2019\, see below for more details. \nRegistration\n2019 Northern Conference ONLINE Registration \n2019 Northern Conference Registration (mail-in) \nSchedule\nView the Schedule here \nPresenters\nWant to volunteer to present?  We have many presentation slots available. We pride ourselves in offering our attendees a wide variety of topics including compliance\, water and wastewater certification\, board training\, funding processes and opportunities\, new technologies\, and more. These diverse class offerings are only possible with help from our very experienced and qualified volunteer presenters.  If you would like to present at our 2019 Southern Fall Conference please download the “Volunteer Presenter Information Form” by clicking on the link button below.  Fill out the Word document and save it in Word format (not as a pdf).  Email the completed form to quintin@nullnmrwa.org. \nNMRWA Volunteer Presenter Information Form \nOperator Exam\n2019 State of New Mexico Water/Waste Water/ Sampler Certification Exam: Friday\, October 11\, 2019\, in Las Vegas\, NM  \nExam Registration deadline is September 11\, 2019 \nFor more information about the exam and study guides please click here \nCheck back for more details about the Conference and information on testing.  Contact the NMRWA Office at 505.884.1031 or info@nullnmrwa.org if you have questions.
URL:https://nmrwa.org/event/2019-northern-new-mexico-conference/
LOCATION:Highlands University\, 401 Roma Ave.\, Student Union Building 3rd Floor\, Las Vegas\, NM\, 87701\, United States
ORGANIZER;CN="NMRWA":MAILTO:info@nmrwa.org
END:VEVENT
BEGIN:VEVENT
DTSTART;TZID=America/Denver:20190408T080000
DTEND;TZID=America/Denver:20190410T170000
DTSTAMP:20260424T100024
CREATED:20190204T171349Z
LAST-MODIFIED:20190403T185624Z
UID:2118-1554710400-1554915600@nmrwa.org
SUMMARY:41st Annual NMRWA Conference - April 8th - 10th\, 2019
DESCRIPTION:It’s that time AGAIN!!!  New Mexico Rural Water proudly invites you to exhibit /attend our annual state conference.  NMRWA’s conference is a premier water and wastewater industry training and vendor exhibit event.  Our conference will feature up to 36 training presentations per day on a variety of topics to include:  Water and Wastewater Operator Certification Training\, Water Sampler Certification Training\, Regulatory Training\, Board Training and much more.  Please join us!!! \n2019 Annual Conference Schedule\nExhibitors\nExhibitors\, please open the 2019 NMRA Exhibitor Packet link to register and reserve an exhibit booth in our hall. \n2019 NMRWA Exhibitor Packet \nAttendees\nAttendees\, please open the 2019 NMRWA Attendee Registration form link to register. \n2019 NMRWA Attendee Registration Form \nPresenters\nWant to volunteer to present?  We have many presentation slots available.  However\, slots are filling quickly.  Use the link below to download NMRWA’s Volunteer Presenter Information form. Please fill out completely and save as a word document – (not pdf) and email to quintin@nullnmrwa.org.  Form information will be used in our conference program so please fill out accordingly. \nNMRWA Volunteer Presenter Information Form \nA conference schedule along with more conference information will be posted soon.  We look forward to seeing everyone at NMRWA’s 41st Annual Conference!!! \nDelegate Registration\nThe New Mexico Rural Water Association is a member-based nonprofit organization assisting water and wastewater systems. We need your participation in the Annual Meeting to elect representatives from your region to the Board of Directors and Executive Committee. Please send a delegate to represent you – your voice and your vote helps all water systems in New Mexico. Thank you for your support of Rural Water! \n2019 Delegate Form  \nThis form must be received in the NMRWA office by 5:00 pm on March 30th\, 2019 \nNMRWA & Bohannan-Huston\, Inc. Water Taste Test 2019\nDoes your system have the best tasting water in New Mexico? Register today for the chance to win the title of Best Tasting Water in New Mexico! The Grand Prize Winner will be sent to represent New Mexico’s rural water systems in Washington\, DC at the annual Rural Water Rally. Winners will receive airfare and hotel accommodations\, courtesy of Bohannan-Huston\, Inc.\, to travel to Washington DC to participate in the National Rural Water Association’s Great American Water Taste Test. As the state’s winner\, you will meet New Mexico’s Congressional Delegation and have an opportunity to tour our nation’s beautiful capital city. \n2019 Water Taste Test Info \n2019 Water Taste Test Registration Form  \n2018 NMRWA Annual Conference Awards\nThe New Mexico Rural Water Association recognizes the outstanding services and commitment of the men and women involved in operating\, managing\, directing\, and supporting New Mexico’s water and wastewater utilities through our Annual Awards Ceremony. Award recipients are acknowledged through press releases to newspapers and television stations statewide. \nTo nominate someone for their service and commitment please click the link below  \nAnnual Awards Nomination Form 2019 \nFor a list of all awards given please click the link below  \nAnnual Conference Awards 2019 \nREMINDER:  The State of New Mexico Environment Department will host a Water / Wastewater / Sampler Certification exam in conjunction with our conference.  The exam date is Thursday\, April 11th\, 2019.  You must submit an application to take a certification exam by March 12th\, 2019 to be eligible to test on April 11th\, 2019.  Applications can be found at: https://www.env.nm.gov/drinking_water/utility-operator-certification-program/
URL:https://nmrwa.org/event/41st-annual-nmrwa-conference-april-8th-10th-2019/
LOCATION:Hotel Albuquerque at Old Town\, 800 Rio Grande Blvd NW\, Albuquerque\, NM\, 87104\, United States
ORGANIZER;CN="NMRWA":MAILTO:info@nmrwa.org
END:VEVENT
BEGIN:VEVENT
DTSTART;TZID=America/Denver:20190314T080000
DTEND;TZID=America/Denver:20190314T170000
DTSTAMP:20260424T100024
CREATED:20190212T221629Z
LAST-MODIFIED:20190212T221629Z
UID:2150-1552550400-1552582800@nmrwa.org
SUMMARY:Math and SWDA Classes - Albuquerque
DESCRIPTION:CLASS REGISTRATION IS CLOSED\nNew Mexico Rural Water Association will host four (4) Math and Safe Drinking Water Act (SDWA) throughout the state in February and March. These workshops offer 8 FREE Credit Hours. \nPlease call our office at 505-884-1031 to pre-register.  Space is limited… Each class will consist of 4 of beginning/intermediate water math and 4 hours of SDWA. \n 
URL:https://nmrwa.org/event/math-and-swda-classes-albuquerque/
LOCATION:NMRWA Office\, 8336 Washington Place NE\, Albuquerque\, NM\, 87113\, United States
END:VEVENT
BEGIN:VEVENT
DTSTART;TZID=America/Denver:20190307T080000
DTEND;TZID=America/Denver:20190307T170000
DTSTAMP:20260424T100024
CREATED:20190212T221728Z
LAST-MODIFIED:20190212T221728Z
UID:2149-1551945600-1551978000@nmrwa.org
SUMMARY:Math and SWDA Classes - Santa Rosa
DESCRIPTION:New Mexico Rural Water Association will host four (4) Math and Safe Drinking Water Act (SDWA) throughout the state in February and March. These workshops offer 8 FREE Credit Hours. \nPlease call our office at 505-884-1031 to pre-register.  Space is limited… Each class will consist of 4 of beginning/intermediate water math and 4 hours of SDWA.
URL:https://nmrwa.org/event/math-and-swda-classes-santa-rosa/
LOCATION:Blue Hole Convention Center\, 1085 Blue Hole Rd\, Santa Rosa\, NM\, 88435\, United States
END:VEVENT
BEGIN:VEVENT
DTSTART;TZID=America/Denver:20190228T080000
DTEND;TZID=America/Denver:20190228T170000
DTSTAMP:20260424T100025
CREATED:20190212T221756Z
LAST-MODIFIED:20190212T221756Z
UID:2147-1551340800-1551373200@nmrwa.org
SUMMARY:Math and SDWA Classes - Deming
DESCRIPTION:New Mexico Rural Water Association will host four (4) Math and Safe Drinking Water Act (SDWA) throughout the state in February and March. These workshops offer 8 FREE Credit Hours. \nPlease call our office at 505-884-1031 to pre-register.  Space is limited… Each class will consist of 4 of beginning/intermediate water math and 4 hours of SDWA.
URL:https://nmrwa.org/event/math-and-sdwa-classes-deming/
LOCATION:Andrew Silva Conference Center\, 119 E. Pine St.\, Deming\, NM\, 88030\, United States
END:VEVENT
BEGIN:VEVENT
DTSTART;TZID=America/Denver:20190221T080000
DTEND;TZID=America/Denver:20190221T170000
DTSTAMP:20260424T100025
CREATED:20190212T221659Z
LAST-MODIFIED:20190212T221659Z
UID:2144-1550736000-1550768400@nmrwa.org
SUMMARY:Math and SDWA Classes - Chamita
DESCRIPTION:New Mexico Rural Water Association will host four (4) Math and Safe Drinking Water Act (SDWA) throughout the state in February and March. These workshops offer 8 FREE Credit Hours. \nPlease call our office at 505-884-1031 to pre-register.  Space is limited… Each class will consist of 4 of beginning/intermediate water math and 4 hours of SDWA.
URL:https://nmrwa.org/event/math-and-sdwa-classes-chamita/
LOCATION:NM
ORGANIZER;CN="NMRWA":MAILTO:info@nmrwa.org
END:VEVENT
END:VCALENDAR